BEGIN:VCALENDAR
VERSION:2.0
PRODID:-//Tukios.com/
BEGIN:VEVENT
UID:637f3dce-af83-4065-a708-0fc31dc150f2@www.shivesfuneralhome.com
DTSTAMP:20260419T232759Z
DTSTART:20260423T180000Z
DTEND:20260423T190000Z
SUMMARY:Funeral Service
DESCRIPTION:
URL:https://www.shivesfuneralhome.com/obituaries/carol-plott
LOCATION:Anglican Church of the Epiphany 2512 North Beltline Boulevard  
	Columbia SC 29204
GEO:34.0232887;-80.9908472
END:VEVENT
END:VCALENDAR