BEGIN:VCALENDAR
VERSION:2.0
PRODID:-//Tukios.com/
BEGIN:VEVENT
UID:0936f0df-1458-405b-a5ea-74e825f0aa27@www.shivesfuneralhome.com
DTSTAMP:20260419T232909Z
DTSTART:20260423T190000Z
DTEND:20260423T200000Z
SUMMARY:Reception
DESCRIPTION:
URL:https://www.shivesfuneralhome.com/obituaries/carol-plott
LOCATION:Anglican Church of the Epiphany 2512 North Beltline Boulevard  
	Columbia SC 29204
GEO:34.0232887;-80.9908472
END:VEVENT
END:VCALENDAR