BEGIN:VCALENDAR
VERSION:2.0
PRODID:-//Tukios.com/
BEGIN:VEVENT
UID:460c12ce-4273-4171-a064-f2ad660f358f@www.shivesfuneralhome.com
DTSTAMP:20260421T224604Z
DTSTART:20260425T210000Z
DTEND:20260425T230000Z
SUMMARY:Visitation
DESCRIPTION:
URL:https://www.shivesfuneralhome.com/obituaries/joseph-dudzik
LOCATION:Shives Funeral Home, Trenholm Road Chapel 7600 Trenholm Road 
	Extension  Columbia SC 29223
GEO:34.0757023;-80.939672
END:VEVENT
END:VCALENDAR